BEGIN:VCALENDAR
VERSION:2.0
PRODID:-//Winning by Design - ECPv6.15.15//NONSGML v1.0//EN
CALSCALE:GREGORIAN
METHOD:PUBLISH
X-WR-CALNAME:Winning by Design
X-ORIGINAL-URL:https://winningbydesign.com
X-WR-CALDESC:Events for Winning by Design
REFRESH-INTERVAL;VALUE=DURATION:PT1H
X-Robots-Tag:noindex
X-PUBLISHED-TTL:PT1H
BEGIN:VTIMEZONE
TZID:America/Los_Angeles
BEGIN:DAYLIGHT
TZOFFSETFROM:-0800
TZOFFSETTO:-0700
TZNAME:PDT
DTSTART:20250309T100000
END:DAYLIGHT
BEGIN:STANDARD
TZOFFSETFROM:-0700
TZOFFSETTO:-0800
TZNAME:PST
DTSTART:20251102T090000
END:STANDARD
BEGIN:DAYLIGHT
TZOFFSETFROM:-0800
TZOFFSETTO:-0700
TZNAME:PDT
DTSTART:20260308T100000
END:DAYLIGHT
BEGIN:STANDARD
TZOFFSETFROM:-0700
TZOFFSETTO:-0800
TZNAME:PST
DTSTART:20261101T090000
END:STANDARD
BEGIN:DAYLIGHT
TZOFFSETFROM:-0800
TZOFFSETTO:-0700
TZNAME:PDT
DTSTART:20270314T100000
END:DAYLIGHT
BEGIN:STANDARD
TZOFFSETFROM:-0700
TZOFFSETTO:-0800
TZNAME:PST
DTSTART:20271107T090000
END:STANDARD
END:VTIMEZONE
BEGIN:VEVENT
DTSTART;TZID=America/Los_Angeles:20260420T080000
DTEND;TZID=America/Los_Angeles:20260420T100000
DTSTAMP:20260419T082840
CREATED:20260404T024957Z
LAST-MODIFIED:20260404T024957Z
UID:10000963-1776672000-1776679200@winningbydesign.com
SUMMARY:Growth Architecture Course Begins
DESCRIPTION:US COHORT led by John Grispon \nAs a revenue leader\, learn how to blend strategy\, think systematically\, and leverage AI-native design to equip your teams with the tools to diagnose\, design\, and operationalize a modern growth machine. \nRegister
URL:https://winningbydesign.com/events/growth-architecture-course-begins-7/
CATEGORIES:Private
END:VEVENT
BEGIN:VEVENT
DTSTART;TZID=America/Los_Angeles:20260421T100000
DTEND;TZID=America/Los_Angeles:20260421T120000
DTSTAMP:20260419T082840
CREATED:20260210T232407Z
LAST-MODIFIED:20260210T232407Z
UID:10000950-1776765600-1776772800@winningbydesign.com
SUMMARY:Revenue Architecture Course Begins
DESCRIPTION:US COHORT led by John Grispon \nAs a revenue leader\, learn how to architect your revenue in order to achieve sustainable growth by understanding the fundamental principles of recurring revenue and the specific frameworks to apply across your GTM team. \nRegister
URL:https://winningbydesign.com/events/revenue-architecture-course-begins-8/
CATEGORIES:Private
END:VEVENT
BEGIN:VEVENT
DTSTART;TZID=America/Los_Angeles:20260429T060000
DTEND;TZID=America/Los_Angeles:20260429T070000
DTSTAMP:20260419T082840
CREATED:20260408T163417Z
LAST-MODIFIED:20260408T163417Z
UID:10000974-1777442400-1777446000@winningbydesign.com
SUMMARY:Growth Institute - Latest Trends
DESCRIPTION:HOSTED BY WbD EXPERTS \nBiweekly sessions offering time to dive deep into timely topics\, connect\, ask questions\, and share news with fellow Growth Institute members. \nLink to Join
URL:https://winningbydesign.com/events/growth-institute-latest-trends-6/
CATEGORIES:Private
END:VEVENT
END:VCALENDAR