BEGIN:VCALENDAR
VERSION:2.0
PRODID:-//Winning by Design - ECPv6.15.15//NONSGML v1.0//EN
CALSCALE:GREGORIAN
METHOD:PUBLISH
X-WR-CALNAME:Winning by Design
X-ORIGINAL-URL:https://winningbydesign.com
X-WR-CALDESC:Events for Winning by Design
REFRESH-INTERVAL;VALUE=DURATION:PT1H
X-Robots-Tag:noindex
X-PUBLISHED-TTL:PT1H
BEGIN:VTIMEZONE
TZID:America/Los_Angeles
BEGIN:DAYLIGHT
TZOFFSETFROM:-0800
TZOFFSETTO:-0700
TZNAME:PDT
DTSTART:20300310T100000
END:DAYLIGHT
BEGIN:STANDARD
TZOFFSETFROM:-0700
TZOFFSETTO:-0800
TZNAME:PST
DTSTART:20301103T090000
END:STANDARD
BEGIN:DAYLIGHT
TZOFFSETFROM:-0800
TZOFFSETTO:-0700
TZNAME:PDT
DTSTART:20310309T100000
END:DAYLIGHT
BEGIN:STANDARD
TZOFFSETFROM:-0700
TZOFFSETTO:-0800
TZNAME:PST
DTSTART:20311102T090000
END:STANDARD
BEGIN:DAYLIGHT
TZOFFSETFROM:-0800
TZOFFSETTO:-0700
TZNAME:PDT
DTSTART:20320314T100000
END:DAYLIGHT
BEGIN:STANDARD
TZOFFSETFROM:-0700
TZOFFSETTO:-0800
TZNAME:PST
DTSTART:20321107T090000
END:STANDARD
END:VTIMEZONE
BEGIN:VEVENT
DTSTART;TZID=America/Los_Angeles:20310319T060000
DTEND;TZID=America/Los_Angeles:20310319T070000
DTSTAMP:20260422T192421
CREATED:20260408T162900Z
LAST-MODIFIED:20260408T162900Z
UID:10000968-1931666400-1931670000@winningbydesign.com
SUMMARY:Growth Institute - Latest Trends
DESCRIPTION:HOSTED BY WbD EXPERTS \nBiweekly sessions offering time to dive deep into timely topics\, connect\, ask questions\, and share news with fellow Growth Institute members. \nLink to Join
URL:https://winningbydesign.com/events/growth-institute-latest-trends-2-2/2031-03-19/
CATEGORIES:Private
END:VEVENT
END:VCALENDAR