BEGIN:VCALENDAR
VERSION:2.0
PRODID:-//Winning by Design - ECPv6.15.15//NONSGML v1.0//EN
CALSCALE:GREGORIAN
METHOD:PUBLISH
X-ORIGINAL-URL:https://winningbydesign.com
X-WR-CALDESC:Events for Winning by Design
REFRESH-INTERVAL;VALUE=DURATION:PT1H
X-Robots-Tag:noindex
X-PUBLISHED-TTL:PT1H
BEGIN:VTIMEZONE
TZID:America/Los_Angeles
BEGIN:DAYLIGHT
TZOFFSETFROM:-0800
TZOFFSETTO:-0700
TZNAME:PDT
DTSTART:20250309T100000
END:DAYLIGHT
BEGIN:STANDARD
TZOFFSETFROM:-0700
TZOFFSETTO:-0800
TZNAME:PST
DTSTART:20251102T090000
END:STANDARD
BEGIN:DAYLIGHT
TZOFFSETFROM:-0800
TZOFFSETTO:-0700
TZNAME:PDT
DTSTART:20260308T100000
END:DAYLIGHT
BEGIN:STANDARD
TZOFFSETFROM:-0700
TZOFFSETTO:-0800
TZNAME:PST
DTSTART:20261101T090000
END:STANDARD
BEGIN:DAYLIGHT
TZOFFSETFROM:-0800
TZOFFSETTO:-0700
TZNAME:PDT
DTSTART:20270314T100000
END:DAYLIGHT
BEGIN:STANDARD
TZOFFSETFROM:-0700
TZOFFSETTO:-0800
TZNAME:PST
DTSTART:20271107T090000
END:STANDARD
END:VTIMEZONE
BEGIN:VEVENT
DTSTART;TZID=America/Los_Angeles:20260108T110000
DTEND;TZID=America/Los_Angeles:20260108T130000
DTSTAMP:20260419T095815
CREATED:20260110T034303Z
LAST-MODIFIED:20260112T205432Z
UID:10000541-1767870000-1767877200@winningbydesign.com
SUMMARY:Growth Architecture Course Begins
DESCRIPTION:US COHORT led by Jacco van der Kooij \nAs a revenue leader\, learn how to blend strategy\, think systematically\, and leverage AI-native design to equip your teams with the tools to diagnose\, design\, and operationalize a modern growth machine. \nRegister
URL:https://winningbydesign.com/events/growth-architecture-course-begins/
CATEGORIES:Private
END:VEVENT
BEGIN:VEVENT
DTSTART;TZID=America/Los_Angeles:20260114T080000
DTEND;TZID=America/Los_Angeles:20260114T210000
DTSTAMP:20260419T095815
CREATED:20260110T035156Z
LAST-MODIFIED:20260113T163636Z
UID:10000546-1768377600-1768424400@winningbydesign.com
SUMMARY:Growth Institute - Latest Trends
DESCRIPTION:HOSTED BY WbD EXPERTS \nBiweekly sessions offering time to dive deep into timely topics\, connect\, ask questions\, and share news with fellow Growth Institute members. \nLink to Join
URL:https://winningbydesign.com/events/growth-institute-latest-trends-4/2026-01-14/
CATEGORIES:Private
END:VEVENT
BEGIN:VEVENT
DTSTART;TZID=America/Los_Angeles:20260119T010000
DTEND;TZID=America/Los_Angeles:20260119T030000
DTSTAMP:20260419T095815
CREATED:20260110T034144Z
LAST-MODIFIED:20260112T205220Z
UID:10000540-1768784400-1768791600@winningbydesign.com
SUMMARY:Revenue Architecture Course Begins
DESCRIPTION:EMEA COHORT led by Roee Hartuv \nAs a revenue leader\, learn how to architect your revenue in order to achieve sustainable growth by understanding the fundamental principles of recurring revenue and the specific frameworks to apply across your GTM team. \nRegister
URL:https://winningbydesign.com/events/revenue-architecture-course-begins-6/
CATEGORIES:Private
END:VEVENT
BEGIN:VEVENT
DTSTART;TZID=America/Los_Angeles:20260128T060000
DTEND;TZID=America/Los_Angeles:20260128T070000
DTSTAMP:20260419T095815
CREATED:20260110T035103Z
LAST-MODIFIED:20260113T163612Z
UID:10000545-1769580000-1769583600@winningbydesign.com
SUMMARY:Growth Institute - Latest Trends
DESCRIPTION:HOSTED BY WbD EXPERTS \nBiweekly sessions offering time to dive deep into timely topics\, connect\, ask questions\, and share news with fellow Growth Institute members. \nLink to Join
URL:https://winningbydesign.com/events/growth-institute-latest-trends-2/2026-01-28/
CATEGORIES:Private
END:VEVENT
END:VCALENDAR