BEGIN:VCALENDAR
VERSION:2.0
PRODID:-//Winning by Design - ECPv6.15.15//NONSGML v1.0//EN
CALSCALE:GREGORIAN
METHOD:PUBLISH
X-WR-CALNAME:Winning by Design
X-ORIGINAL-URL:https://winningbydesign.com
X-WR-CALDESC:Events for Winning by Design
REFRESH-INTERVAL;VALUE=DURATION:PT1H
X-Robots-Tag:noindex
X-PUBLISHED-TTL:PT1H
BEGIN:VTIMEZONE
TZID:America/Los_Angeles
BEGIN:DAYLIGHT
TZOFFSETFROM:-0800
TZOFFSETTO:-0700
TZNAME:PDT
DTSTART:20240310T100000
END:DAYLIGHT
BEGIN:STANDARD
TZOFFSETFROM:-0700
TZOFFSETTO:-0800
TZNAME:PST
DTSTART:20241103T090000
END:STANDARD
BEGIN:DAYLIGHT
TZOFFSETFROM:-0800
TZOFFSETTO:-0700
TZNAME:PDT
DTSTART:20250309T100000
END:DAYLIGHT
BEGIN:STANDARD
TZOFFSETFROM:-0700
TZOFFSETTO:-0800
TZNAME:PST
DTSTART:20251102T090000
END:STANDARD
BEGIN:DAYLIGHT
TZOFFSETFROM:-0800
TZOFFSETTO:-0700
TZNAME:PDT
DTSTART:20260308T100000
END:DAYLIGHT
BEGIN:STANDARD
TZOFFSETFROM:-0700
TZOFFSETTO:-0800
TZNAME:PST
DTSTART:20261101T090000
END:STANDARD
END:VTIMEZONE
BEGIN:VEVENT
DTSTART;TZID=America/Los_Angeles:20251106T080000
DTEND;TZID=America/Los_Angeles:20251106T090000
DTSTAMP:20260419T125133
CREATED:20260113T163126Z
LAST-MODIFIED:20260408T155201Z
UID:10000936-1762416000-1762419600@winningbydesign.com
SUMMARY:Growth Institute - Latest Trends
DESCRIPTION:HOSTED BY WbD EXPERTS \nBiweekly sessions offering time to dive deep into timely topics\, connect\, ask questions\, and share news with fellow Growth Institute members. \nLink to Join
URL:https://winningbydesign.com/events/growth-institute-latest-trends-5-2/2025-11-06/
CATEGORIES:Private
END:VEVENT
BEGIN:VEVENT
DTSTART;TZID=America/Los_Angeles:20251120T080000
DTEND;TZID=America/Los_Angeles:20251120T090000
DTSTAMP:20260419T125133
CREATED:20260113T163126Z
LAST-MODIFIED:20260408T155201Z
UID:10000937-1763625600-1763629200@winningbydesign.com
SUMMARY:Growth Institute - Latest Trends
DESCRIPTION:HOSTED BY WbD EXPERTS \nBiweekly sessions offering time to dive deep into timely topics\, connect\, ask questions\, and share news with fellow Growth Institute members. \nLink to Join
URL:https://winningbydesign.com/events/growth-institute-latest-trends-5-2/2025-11-20/
CATEGORIES:Private
END:VEVENT
END:VCALENDAR